BEGIN:VCALENDAR
VERSION:2.0
PRODID:-//Apotheek Partners - ECPv6.15.20//NONSGML v1.0//EN
CALSCALE:GREGORIAN
METHOD:PUBLISH
X-ORIGINAL-URL:https://www.apotheekpartners.nl
X-WR-CALDESC:Events for Apotheek Partners
REFRESH-INTERVAL;VALUE=DURATION:PT1H
X-Robots-Tag:noindex
X-PUBLISHED-TTL:PT1H
BEGIN:VTIMEZONE
TZID:UTC
BEGIN:STANDARD
TZOFFSETFROM:+0000
TZOFFSETTO:+0000
TZNAME:UTC
DTSTART:20240101T000000
END:STANDARD
END:VTIMEZONE
BEGIN:VEVENT
DTSTART;TZID=UTC:20251103T120000
DTEND;TZID=UTC:20251103T130000
DTSTAMP:20260422T194755
CREATED:20241212T101349Z
LAST-MODIFIED:20241212T114253Z
UID:5235-1762171200-1762174800@www.apotheekpartners.nl
SUMMARY:Ontwikkelkamer: Denk mee over onze software
DESCRIPTION:Klik hier om je aan te melden\n  \nOm onze software naadloos aan te laten sluiten op de praktijk in de apotheek\, hebben we jouw input keihard nodig! Jij weet immers wat er preciés nodig is. Daarom nodigen we je van harte uit om deel te nemen aan onze Ontwikkelkamer\, de gebruikersgroep van Recept Locatie. Hierin gaan we samen sparren en discussiëren over de grootste uitdagingen en behoeften in de apotheek. \nVergeet geen broodje erbij te pakken\, want het is tijdens de lunch!
URL:https://www.apotheekpartners.nl/evenement/ontwikkelkamer-denk-na-over-onze-softwareontwikkeling
LOCATION:Online\, Netherlands
CATEGORIES:Ontwikkelkamer
ATTACH;FMTTYPE=image/jpeg:https://www.apotheekpartners.nl/_WORDPRESS2024/wp-content/uploads/2024/11/ontwikkelkamer-1.jpg
END:VEVENT
BEGIN:VEVENT
DTSTART;TZID=UTC:20250804T120000
DTEND;TZID=UTC:20250804T130000
DTSTAMP:20260422T194755
CREATED:20241212T101243Z
LAST-MODIFIED:20241219T142320Z
UID:5233-1754308800-1754312400@www.apotheekpartners.nl
SUMMARY:Ontwikkelkamer: Denk mee over onze software
DESCRIPTION:Klik hier om je aan te melden\n  \nOm onze software naadloos aan te laten sluiten op de praktijk in de apotheek\, hebben we jouw input keihard nodig! Jij weet immers wat er preciés nodig is. Daarom nodigen we je van harte uit om deel te nemen aan onze Ontwikkelkamer\, de gebruikersgroep van Recept Locatie. Hierin gaan we samen sparren en discussiëren over de grootste uitdagingen en behoeften in de apotheek. \nVergeet geen broodje erbij te pakken\, want het is tijdens de lunch!
URL:https://www.apotheekpartners.nl/evenement/ontwikkelkamer-denk-mee-over-onze-softwareontwikkeling-3
LOCATION:Online\, Netherlands
CATEGORIES:Ontwikkelkamer
ATTACH;FMTTYPE=image/jpeg:https://www.apotheekpartners.nl/_WORDPRESS2024/wp-content/uploads/2024/11/ontwikkelkamer-1.jpg
END:VEVENT
BEGIN:VEVENT
DTSTART;TZID=UTC:20250505T120000
DTEND;TZID=UTC:20250505T130000
DTSTAMP:20260422T194755
CREATED:20241212T101139Z
LAST-MODIFIED:20241212T114308Z
UID:5231-1746446400-1746450000@www.apotheekpartners.nl
SUMMARY:Ontwikkelkamer: Denk mee over onze software
DESCRIPTION:Klik hier om je aan te melden\n  \nOm onze software naadloos aan te laten sluiten op de praktijk in de apotheek\, hebben we jouw input keihard nodig! Jij weet immers wat er preciés nodig is. Daarom nodigen we je van harte uit om deel te nemen aan onze Ontwikkelkamer\, de gebruikersgroep van Recept Locatie. Hierin gaan we samen sparren en discussiëren over de grootste uitdagingen en behoeften in de apotheek. \nVergeet geen broodje erbij te pakken\, want het is tijdens de lunch!
URL:https://www.apotheekpartners.nl/evenement/ontwikkelkamer-denk-mee-over-onze-softwareontwikkeling-2
LOCATION:Online\, Netherlands
CATEGORIES:Ontwikkelkamer
ATTACH;FMTTYPE=image/jpeg:https://www.apotheekpartners.nl/_WORDPRESS2024/wp-content/uploads/2024/11/ontwikkelkamer-1.jpg
END:VEVENT
BEGIN:VEVENT
DTSTART;TZID=UTC:20250203T120000
DTEND;TZID=UTC:20250203T130000
DTSTAMP:20260422T194755
CREATED:20241212T100857Z
LAST-MODIFIED:20241212T114317Z
UID:5229-1738584000-1738587600@www.apotheekpartners.nl
SUMMARY:Ontwikkelkamer: Denk mee over onze software
DESCRIPTION:Klik hier om je aan te melden\n  \nOm onze software naadloos aan te laten sluiten op de praktijk in de apotheek\, hebben we jouw input keihard nodig! Jij weet immers wat er preciés nodig is. Daarom nodigen we je van harte uit om deel te nemen aan onze Ontwikkelkamer\, de gebruikersgroep van Recept Locatie. Hierin gaan we samen sparren en discussiëren over de grootste uitdagingen en behoeften in de apotheek. \nVergeet geen broodje erbij te pakken\, want het is tijdens de lunch!
URL:https://www.apotheekpartners.nl/evenement/ontwikkelkamer-denk-mee-over-onze-softwareontwikkeling
LOCATION:Online\, Netherlands
CATEGORIES:Ontwikkelkamer
ATTACH;FMTTYPE=image/jpeg:https://www.apotheekpartners.nl/_WORDPRESS2024/wp-content/uploads/2024/11/ontwikkelkamer-1.jpg
END:VEVENT
END:VCALENDAR